BEGIN:VCALENDAR
VERSION:2.0
PRODID:-//Schachverein Schönaich - ECPv6.15.20//NONSGML v1.0//EN
CALSCALE:GREGORIAN
METHOD:PUBLISH
X-ORIGINAL-URL:https://schach-schoenaich.de
X-WR-CALDESC:Veranstaltungen für Schachverein Schönaich
REFRESH-INTERVAL;VALUE=DURATION:PT1H
X-Robots-Tag:noindex
X-PUBLISHED-TTL:PT1H
BEGIN:VTIMEZONE
TZID:Europe/Berlin
BEGIN:DAYLIGHT
TZOFFSETFROM:+0100
TZOFFSETTO:+0200
TZNAME:CEST
DTSTART:20230326T010000
END:DAYLIGHT
BEGIN:STANDARD
TZOFFSETFROM:+0200
TZOFFSETTO:+0100
TZNAME:CET
DTSTART:20231029T010000
END:STANDARD
BEGIN:DAYLIGHT
TZOFFSETFROM:+0100
TZOFFSETTO:+0200
TZNAME:CEST
DTSTART:20240331T010000
END:DAYLIGHT
BEGIN:STANDARD
TZOFFSETFROM:+0200
TZOFFSETTO:+0100
TZNAME:CET
DTSTART:20241027T010000
END:STANDARD
BEGIN:DAYLIGHT
TZOFFSETFROM:+0100
TZOFFSETTO:+0200
TZNAME:CEST
DTSTART:20250330T010000
END:DAYLIGHT
BEGIN:STANDARD
TZOFFSETFROM:+0200
TZOFFSETTO:+0100
TZNAME:CET
DTSTART:20251026T010000
END:STANDARD
BEGIN:DAYLIGHT
TZOFFSETFROM:+0100
TZOFFSETTO:+0200
TZNAME:CEST
DTSTART:20260329T010000
END:DAYLIGHT
BEGIN:STANDARD
TZOFFSETFROM:+0200
TZOFFSETTO:+0100
TZNAME:CET
DTSTART:20261025T010000
END:STANDARD
BEGIN:DAYLIGHT
TZOFFSETFROM:+0100
TZOFFSETTO:+0200
TZNAME:CEST
DTSTART:20270328T010000
END:DAYLIGHT
BEGIN:STANDARD
TZOFFSETFROM:+0200
TZOFFSETTO:+0100
TZNAME:CET
DTSTART:20271031T010000
END:STANDARD
END:VTIMEZONE
BEGIN:VEVENT
DTSTART;VALUE=DATE:20260111
DTEND;VALUE=DATE:20260112
DTSTAMP:20260424T191955
CREATED:20251215T132911Z
LAST-MODIFIED:20251215T132911Z
UID:2677-1768089600-1768175999@schach-schoenaich.de
SUMMARY:Schönaich 2 - Ludwigsburg 1
DESCRIPTION:
URL:https://schach-schoenaich.de/event/schoenaich-2-ludwigsburg-1/
CATEGORIES:2. Mannschaft
END:VEVENT
BEGIN:VEVENT
DTSTART;VALUE=DATE:20251130
DTEND;VALUE=DATE:20251201
DTSTAMP:20260424T191955
CREATED:20251110T081708Z
LAST-MODIFIED:20251110T081708Z
UID:2630-1764460800-1764547199@schach-schoenaich.de
SUMMARY:TSV Schönaich 3 - Spvgg Böblingen 1
DESCRIPTION:
URL:https://schach-schoenaich.de/event/tsv-schoenaich-3-spvgg-boeblingen-1/
CATEGORIES:3. Mannschaft
END:VEVENT
BEGIN:VEVENT
DTSTART;VALUE=DATE:20251123
DTEND;VALUE=DATE:20251124
DTSTAMP:20260424T191955
CREATED:20251110T081520Z
LAST-MODIFIED:20251110T081520Z
UID:2626-1763856000-1763942399@schach-schoenaich.de
SUMMARY:TSV Schönaich 4 - SV Leonberg 2
DESCRIPTION:
URL:https://schach-schoenaich.de/event/tsv-schoenaich-4-sv-leonberg-2/
CATEGORIES:4. Mannschaft
END:VEVENT
BEGIN:VEVENT
DTSTART;VALUE=DATE:20251116
DTEND;VALUE=DATE:20251117
DTSTAMP:20260424T191955
CREATED:20251110T081550Z
LAST-MODIFIED:20251110T081550Z
UID:2628-1763251200-1763337599@schach-schoenaich.de
SUMMARY:SK Schmiden/Cannstatt 2	- TSV Schönaich 3
DESCRIPTION:
URL:https://schach-schoenaich.de/event/sk-schmiden-cannstatt-2-tsv-schoenaich-3/
CATEGORIES:3. Mannschaft
END:VEVENT
BEGIN:VEVENT
DTSTART;VALUE=DATE:20251109
DTEND;VALUE=DATE:20251110
DTSTAMP:20260424T191955
CREATED:20251013T103228Z
LAST-MODIFIED:20251013T103228Z
UID:2590-1762646400-1762732799@schach-schoenaich.de
SUMMARY:SC Plüderhausen 1 - Schönaich 2
DESCRIPTION:
URL:https://schach-schoenaich.de/event/sc-pluederhausen-1-schoenaich-2/
CATEGORIES:2. Mannschaft
END:VEVENT
BEGIN:VEVENT
DTSTART;VALUE=DATE:20251019
DTEND;VALUE=DATE:20251027
DTSTAMP:20260424T191955
CREATED:20251016T084139Z
LAST-MODIFIED:20251016T084139Z
UID:2595-1760832000-1761523199@schach-schoenaich.de
SUMMARY:ECCC 2025 Rhodos
DESCRIPTION:https://s3.chess-results.com/tnr1250658.aspx?lan=0&SNode=S0 
URL:https://schach-schoenaich.de/event/eccc-2025-rhodos/
END:VEVENT
BEGIN:VEVENT
DTSTART;TZID=Europe/Berlin:20251012T100000
DTEND;TZID=Europe/Berlin:20251012T170000
DTSTAMP:20260424T191955
CREATED:20251002T081812Z
LAST-MODIFIED:20251002T081812Z
UID:2586-1760263200-1760288400@schach-schoenaich.de
SUMMARY:TSV Schönaich 3 - Stuttgarter SF 3
DESCRIPTION:
URL:https://schach-schoenaich.de/event/tsv-schoenaich-3-stuttgarter-sf-3/
CATEGORIES:3. Mannschaft
END:VEVENT
BEGIN:VEVENT
DTSTART;TZID=Europe/Berlin:20251012T100000
DTEND;TZID=Europe/Berlin:20251012T170000
DTSTAMP:20260424T191955
CREATED:20251002T081527Z
LAST-MODIFIED:20251002T081527Z
UID:2584-1760263200-1760288400@schach-schoenaich.de
SUMMARY:TSV Schönaich 2 - Spraitbach 1
DESCRIPTION:
URL:https://schach-schoenaich.de/event/tsv-schoenaich-2-spraitbach-1/
CATEGORIES:2. Mannschaft
END:VEVENT
BEGIN:VEVENT
DTSTART;VALUE=DATE:20250928
DTEND;VALUE=DATE:20250929
DTSTAMP:20260424T191955
CREATED:20250607T054917Z
LAST-MODIFIED:20250607T054917Z
UID:2465-1759017600-1759103999@schach-schoenaich.de
SUMMARY:SV Böblingen 2 - Schönaich 2
DESCRIPTION:
URL:https://schach-schoenaich.de/event/sv-boeblingen-2-schoenaich-2/
CATEGORIES:2. Mannschaft
END:VEVENT
BEGIN:VEVENT
DTSTART;VALUE=DATE:20250518
DTEND;VALUE=DATE:20250519
DTSTAMP:20260424T191955
CREATED:20250504T153332Z
LAST-MODIFIED:20250504T153332Z
UID:2432-1747526400-1747612799@schach-schoenaich.de
SUMMARY:TSV Schönaich 3 - SF Oeffingen 1
DESCRIPTION:
URL:https://schach-schoenaich.de/event/tsv-schoenaich-3-sf-oeffingen-1-2/
CATEGORIES:3. Mannschaft
END:VEVENT
BEGIN:VEVENT
DTSTART;VALUE=DATE:20250511
DTEND;VALUE=DATE:20250512
DTSTAMP:20260424T191955
CREATED:20250504T153232Z
LAST-MODIFIED:20250504T153232Z
UID:2430-1746921600-1747007999@schach-schoenaich.de
SUMMARY:TSV Schönaich 4 - SGem Vaihingen/Rohr 2
DESCRIPTION:
URL:https://schach-schoenaich.de/event/tsv-schoenaich-4-sgem-vaihingen-rohr-2/
CATEGORIES:4. Mannschaft
END:VEVENT
BEGIN:VEVENT
DTSTART;VALUE=DATE:20250406
DTEND;VALUE=DATE:20250407
DTSTAMP:20260424T191955
CREATED:20250327T055520Z
LAST-MODIFIED:20250327T055520Z
UID:2413-1743897600-1743983999@schach-schoenaich.de
SUMMARY:Spraitbach 1 - Schönaich 2
DESCRIPTION:
URL:https://schach-schoenaich.de/event/spraitbach-1-schoenaich-2/
CATEGORIES:2. Mannschaft
END:VEVENT
BEGIN:VEVENT
DTSTART;VALUE=DATE:20250323
DTEND;VALUE=DATE:20250324
DTSTAMP:20260424T191955
CREATED:20250219T082738Z
LAST-MODIFIED:20250219T082738Z
UID:2377-1742688000-1742774399@schach-schoenaich.de
SUMMARY:Spvgg Böblingen 3 - TSV Schönaich 4
DESCRIPTION:
URL:https://schach-schoenaich.de/event/spvgg-boeblingen-3-tsv-schoenaich-4/
CATEGORIES:4. Mannschaft
END:VEVENT
BEGIN:VEVENT
DTSTART;VALUE=DATE:20250323
DTEND;VALUE=DATE:20250324
DTSTAMP:20260424T191955
CREATED:20250219T082708Z
LAST-MODIFIED:20250219T082708Z
UID:2375-1742688000-1742774399@schach-schoenaich.de
SUMMARY:TSV Schönaich 2	- SC Böblingen 2
DESCRIPTION:
URL:https://schach-schoenaich.de/event/tsv-schoenaich-2-sc-boeblingen-2/
CATEGORIES:2. Mannschaft
END:VEVENT
BEGIN:VEVENT
DTSTART;VALUE=DATE:20250316
DTEND;VALUE=DATE:20250317
DTSTAMP:20260424T191955
CREATED:20250219T082637Z
LAST-MODIFIED:20250219T082637Z
UID:2373-1742083200-1742169599@schach-schoenaich.de
SUMMARY:TSV Schönaich 3	- SK Schmiden/Cannstatt 2
DESCRIPTION:
URL:https://schach-schoenaich.de/event/tsv-schoenaich-3-sk-schmiden-cannstatt-2/
CATEGORIES:3. Mannschaft
END:VEVENT
BEGIN:VEVENT
DTSTART;TZID=Europe/Berlin:20250309T100000
DTEND;TZID=Europe/Berlin:20250309T170000
DTSTAMP:20260424T191955
CREATED:20250219T082531Z
LAST-MODIFIED:20250219T082531Z
UID:2369-1741514400-1741539600@schach-schoenaich.de
SUMMARY:SK Lauffen 1 - TSV Schönaich 2
DESCRIPTION:
URL:https://schach-schoenaich.de/event/sk-lauffen-1-tsv-schoenaich-2/
CATEGORIES:2. Mannschaft
END:VEVENT
BEGIN:VEVENT
DTSTART;VALUE=DATE:20250309
DTEND;VALUE=DATE:20250310
DTSTAMP:20260424T191955
CREATED:20250219T082606Z
LAST-MODIFIED:20250219T082606Z
UID:2371-1741478400-1741564799@schach-schoenaich.de
SUMMARY:TSV Schönaich 4	- SC Magstadt 1
DESCRIPTION:
URL:https://schach-schoenaich.de/event/tsv-schoenaich-4-sc-magstadt-1-2/
CATEGORIES:4. Mannschaft
END:VEVENT
BEGIN:VEVENT
DTSTART;TZID=Europe/Berlin:20250302T090000
DTEND;TZID=Europe/Berlin:20250302T150000
DTSTAMP:20260424T191955
CREATED:20250219T082435Z
LAST-MODIFIED:20250219T082435Z
UID:2367-1740906000-1740927600@schach-schoenaich.de
SUMMARY:TSV Schönaich 5 - SV Herrenberg 3
DESCRIPTION:
URL:https://schach-schoenaich.de/event/tsv-schoenaich-5-sv-herrenberg-3/
CATEGORIES:5. Mannschaft
END:VEVENT
BEGIN:VEVENT
DTSTART;VALUE=DATE:20250221
DTEND;VALUE=DATE:20250224
DTSTAMP:20260424T191955
CREATED:20250219T082841Z
LAST-MODIFIED:20250219T082933Z
UID:2379-1740096000-1740355199@schach-schoenaich.de
SUMMARY:2. Schachbundesliga in Böblingen
DESCRIPTION:https://ergebnisdienst.schachbund.de/bedt.php?liga=2bls
URL:https://schach-schoenaich.de/event/2-schachbundesliga-in-boeblingen/
CATEGORIES:1. Mannschaft
END:VEVENT
BEGIN:VEVENT
DTSTART;TZID=Europe/Berlin:20250216T100000
DTEND;TZID=Europe/Berlin:20250216T170000
DTSTAMP:20260424T191955
CREATED:20250106T080638Z
LAST-MODIFIED:20250106T080638Z
UID:2301-1739700000-1739725200@schach-schoenaich.de
SUMMARY:SpVgg Rommelshausen 1 - TSV Schönaich 3
DESCRIPTION:
URL:https://schach-schoenaich.de/event/spvgg-rommelshausen-1-tsv-schoenaich-3-2/
CATEGORIES:3. Mannschaft
END:VEVENT
BEGIN:VEVENT
DTSTART;TZID=Europe/Berlin:20250209T100000
DTEND;TZID=Europe/Berlin:20250209T170000
DTSTAMP:20260424T191955
CREATED:20250106T080518Z
LAST-MODIFIED:20250106T080518Z
UID:2297-1739095200-1739120400@schach-schoenaich.de
SUMMARY:TSV Schönaich 2 - Feuerbach 1
DESCRIPTION:
URL:https://schach-schoenaich.de/event/tsv-schoenaich-2-feuerbach-1/
CATEGORIES:2. Mannschaft
END:VEVENT
BEGIN:VEVENT
DTSTART;VALUE=DATE:20250209
DTEND;VALUE=DATE:20250210
DTSTAMP:20260424T191955
CREATED:20250106T080551Z
LAST-MODIFIED:20250106T080551Z
UID:2299-1739059200-1739145599@schach-schoenaich.de
SUMMARY:TSV Heimsheim 1 - TSV Schönaich 4
DESCRIPTION:
URL:https://schach-schoenaich.de/event/tsv-heimsheim-1-tsv-schoenaich-4/
CATEGORIES:4. Mannschaft
END:VEVENT
BEGIN:VEVENT
DTSTART;TZID=Europe/Berlin:20250202T000000
DTEND;TZID=Europe/Berlin:20250202T000000
DTSTAMP:20260424T191955
CREATED:20250106T080443Z
LAST-MODIFIED:20250106T080443Z
UID:2295-1738454400-1738454400@schach-schoenaich.de
SUMMARY:SGem Vaihingen/Rohr 4 - TSV Schönaich 5
DESCRIPTION:
URL:https://schach-schoenaich.de/event/sgem-vaihingen-rohr-4-tsv-schoenaich-5/
CATEGORIES:5. Mannschaft
END:VEVENT
BEGIN:VEVENT
DTSTART;TZID=Europe/Berlin:20250119T100000
DTEND;TZID=Europe/Berlin:20250119T170000
DTSTAMP:20260424T191955
CREATED:20241006T135101Z
LAST-MODIFIED:20241006T135101Z
UID:2117-1737280800-1737306000@schach-schoenaich.de
SUMMARY:TSV Schönaich 3 - SC Waiblingen 1
DESCRIPTION:
URL:https://schach-schoenaich.de/event/tsv-schoenaich-3-sc-waiblingen-1/
CATEGORIES:3. Mannschaft
END:VEVENT
BEGIN:VEVENT
DTSTART;TZID=Europe/Berlin:20250119T100000
DTEND;TZID=Europe/Berlin:20250119T160000
DTSTAMP:20260424T191955
CREATED:20250106T080335Z
LAST-MODIFIED:20250106T080335Z
UID:2293-1737280800-1737302400@schach-schoenaich.de
SUMMARY:TSV Schönaich 3 - SC Waiblingen 1
DESCRIPTION:
URL:https://schach-schoenaich.de/event/tsv-schoenaich-3-sc-waiblingen-1-2/
CATEGORIES:3. Mannschaft
END:VEVENT
BEGIN:VEVENT
DTSTART;TZID=Europe/Berlin:20250119T100000
DTEND;TZID=Europe/Berlin:20250119T160000
DTSTAMP:20260424T191955
CREATED:20250106T080151Z
LAST-MODIFIED:20250106T080151Z
UID:2291-1737280800-1737302400@schach-schoenaich.de
SUMMARY:SV Stuttgart-Wolfbusch 1 - TSV Schönaich 2
DESCRIPTION:
URL:https://schach-schoenaich.de/event/sv-stuttgart-wolfbusch-1-tsv-schoenaich-2-2/
CATEGORIES:2. Mannschaft
END:VEVENT
BEGIN:VEVENT
DTSTART;TZID=Europe/Berlin:20241215T100000
DTEND;TZID=Europe/Berlin:20241215T170000
DTSTAMP:20260424T191955
CREATED:20241013T181922Z
LAST-MODIFIED:20241013T181931Z
UID:2172-1734256800-1734282000@schach-schoenaich.de
SUMMARY:TSV Schönaich 4 - VfL Sindelfingen 2
DESCRIPTION:
URL:https://schach-schoenaich.de/event/tsv-schaenaich-4-vfl-sindelfingen-2/
CATEGORIES:4. Mannschaft
END:VEVENT
BEGIN:VEVENT
DTSTART;TZID=Europe/Berlin:20241208T100000
DTEND;TZID=Europe/Berlin:20241208T170000
DTSTAMP:20260424T191955
CREATED:20241013T182516Z
LAST-MODIFIED:20241013T182516Z
UID:2186-1733652000-1733677200@schach-schoenaich.de
SUMMARY:TSV Schönaich 2 - SV Backnang 1
DESCRIPTION:
URL:https://schach-schoenaich.de/event/tsv-schoenaich-2-sv-backnang-1/
CATEGORIES:2. Mannschaft
END:VEVENT
BEGIN:VEVENT
DTSTART;TZID=Europe/Berlin:20241208T100000
DTEND;TZID=Europe/Berlin:20241208T170000
DTSTAMP:20260424T191955
CREATED:20241006T135018Z
LAST-MODIFIED:20241006T135018Z
UID:2115-1733652000-1733677200@schach-schoenaich.de
SUMMARY:SC Leinfelden 1 - TSV Schönaich 3
DESCRIPTION:
URL:https://schach-schoenaich.de/event/sc-leinfelden-1-tsv-schoenaich-3-2/
CATEGORIES:3. Mannschaft
END:VEVENT
BEGIN:VEVENT
DTSTART;TZID=Europe/Berlin:20241201T100000
DTEND;TZID=Europe/Berlin:20241201T170000
DTSTAMP:20260424T191955
CREATED:20241013T182235Z
LAST-MODIFIED:20241013T182235Z
UID:2180-1733047200-1733072400@schach-schoenaich.de
SUMMARY:Nickelhütte Aue 1 - TSV Schönaich 1
DESCRIPTION:
URL:https://schach-schoenaich.de/event/nickelhuette-aue-1-tsv-schoenaich-1/
CATEGORIES:1. Mannschaft
END:VEVENT
END:VCALENDAR